Workbook
Name a: options!$B$2:$B$4
Name b: options!$D$2:$D$11
Name Cắt_gọt_kim_loại: options!$M$3:$M$11
Name Cơ_điện_tử: options!$M$7
Name CODE1: options!$K$2:$K$18
Name CODE2: options!$M$2:$M$11
Name COMP_imp: options!$O$2:$O$7
Name COMP_lack: options!$P$2:$P$7
Name Công_nghệ_điều_khiển_và_lắp_đặt_điện_trong_công_nghiệp: options!$M$6
Name Công_nghệ_thông_tin: options!$M$10
Name d: options!$C$2:$C$3
Name Điện_công_nghiệp: options!$M$5
Name Điện_tử_công_nghiệp: options!$M$8
Name Điện_tử_dân_dụng: options!$M$9
Name difficulties_hiring: options!$H$2:$H$5
Name difficultieshiring1: options!$H$2:$H$9
Name e: options!$J$2:$J$6
Name Hàn: options!$M$3
Name INDU1: options!$L$2:$L$18
Name INDU2: options!$N$2:$N$10
Name industry: options!$D$2:$D$13
Name KhoKhanTrongTuyenDung: options!#REF!
Name Lắp_đặt_trang_thiết_bị_cơ_khí: options!$M$4
Name market: options!$E$2:$E$4
Name newoption: options!#REF!
Name preference_for_graduates: options!$I$2:$I$8
Name production_technology: options!$F$2:$F$4
Name satisfied_competence: options!$J$2:$J$6
Name Type_of_ownership: options!$B$2:$B$10
Name Xử_lý_nước_thải_khu_công_nghiệp: options!$M$11
Name yesno: options!$C$2:$C$3

Sheet questionnaire
A1: A | B1: B | C1: C | F1: 1.1 | H1: 1.2 | I1: 1.3 | J1: 1.4 | K1: 1.5 | L1: 1.6 | M1: 1.7 | N1: 1.8 | O1: 2 | P1: 3 | Q1: 4 | R1: 5 | S1: 6.1 | T1: 6.2 | U1: 7 | V1: 8.1 | W1: 8.2 | X1: 9.1 | Y1: 9.2 | Z1: 10.1 | AA1: 10.2 | AB1: 11.1 | AC1: 11.21 | AD1: 11.22 | AE1: 12.11 | AF1: 12.12 | AG1: 12.13 | AH1: 12.21 | AI1: 12.22 | AJ1: 12.23 | AK1: 12.31 | AL1: 12.32 | AM1: 12.33 | AN1: 12.41 | AO1: 12.42 | AP1: 12.43 | AQ1: 12.51 | AR1: 12.52 | AS1: 12.53 | AT1: 12.61 | AU1: 12.62 | AV1: 12.63 | AW1: 12.71 | AX1: 12.72 | AY1: 12.73 | AZ1: 13.1 | BA1: 13.2 | BB1: 14.1 | BC1: 14.2 | BD1: 15.1 | BE1: 15.2 | BF1: 16.1 | BG1: 16.2 | BH1: 17.11 | BI1: 17.12 | BJ1: 17.13 | BK1: 17.14 | BL1: 17.15 | BM1: 17.21 | BN1: 17.22 | BO1: 17.23 | BP1: 17.24 | BQ1: 17.25 | BR1: 17.31 | BS1: 17.32 | BT1: 17.33 | BU1: 17.34 | BV1: 17.35 | BW1: 17.41 | BX1: 17.42 | BY1: 17.43 | BZ1: 17.44 | CA1: 17.45 | CB1: 17.51 | CC1: 17.52 | CD1: 17.53 | CE1: 17.54 | CG1: 18 | CH1: 18.1 | CI1: 18.2 | CJ1: 18.3 | CK1: 19.11 | CL1: 19.12 | CM1: 19.13 | CN1: 19.14 | CO1: 19.21 | CP1: 19.22 | CQ1: 19.23 | CR1: 19.24 | CS1: 19.31 | CT1: 19.32 | CU1: 19.33 | CV1: 19.34 | CW1: 19.41 | CX1: 19.42 | CY1: 19.43 | CZ1: 19.44 | DA1: 19.51 | DB1: 19.52 | DC1: 19.53 | DD1: 19.54 | DE1: 20.1 | DF1: 20.2 | DG1: 20.3 | DH1: 20.4 | DI1: 20.5 | DK1: 22.1 | DL1: 22.2 | DM1: 22.3 | DN1: 22.4 | DO1: 22.5 | DP1: 23a_1 | DQ1: 23b_1 | DR1: 23a_2 | DS1: 23b_2 | DT1: 23a_3 | DU1: 23b_3 | DV1: 23a_3 | DW1: 23b_3 | DX1: 23a_5 | DY1: 23b_5 | DZ1: 23a_6 | EA1: 23b_6 | EB1: 23a_7 | EC1: 23b_7 | ED1: 23a_8 | EE1: 23b_8 | EF1: 23a_9 | EG1: 23b_9 | EH1: 23a_10 | EI1: 23b_10 | EJ1: 23a_11 | EK1: 23b_11 | EL1: 23a_12 | EM1: 23b_12 | EN1: 23_13 | EO1: 23a_13 | EP1: 23b_13 | EQ1: 23a_13 | ER1: 23b_13 | ES1: 23a_15 | ET1: 23b_15 | EU1: 23a_16 | EV1: 23b_16 | EW1: 23a_17 | EX1: 23b_17 | EY1: 23a_18 | EZ1: 23b_18 | FA1: 23a_19 | FB1: 23b_19 | FC1: 23a_20 | FD1: 23b_20 | FE1: 23a_21 | FF1: 23b_21 | FG1: 23_22 | FH1: 23a_22 | FI1: 23b_22 | FJ1: 23a_23 | FK1: 23b_23 | FL1: 23a_23 | FM1: 23b_23 | FN1: 23a_25 | FO1: 23b_25 | FP1: 23a_26 | FQ1: 23b_26 | FR1: 23a_27 | FS1: 23b_27 | FT1: 23a_28 | FU1: 23b_28 | FV1: 23a_29 | FW1: 23b_29 | FX1: 23a_30 | FY1: 23b_30 | FZ1: 23a_31 | GA1: 23b_31 | GB1: 23a_32 | GC1: 23b_32 | GD1: 23_33 | GE1: 23a_33 | GF1: 23b_33 | GG1: 23a_33 | GH1: 23b_33 | GI1: 23a_35 | GJ1: 23b_35 | GK1: 23a_36 | GL1: 23b_36 | GM1: 23a_37 | GN1: 23b_37 | GO1: 23a_38 | GP1: 23b_38 | GQ1: 23a_39 | GR1: 23b_39 | GS1: 23a_30 | GT1: 23b_30 | GU1: 23a_31 | GV1: 23b_32 | GW1: 23a_33 | GX1: 23b_33 | GY1: 23a_33 | GZ1: 23b_33 | HA1: 23a_35 | HB1: 23b_35 | HC1: 23_36 | HD1: 23a_36 | HE1: 23b_36
A2: Tên trường | B2: Bảng hỏi số | C2: Tên người phỏng vấn | D2: Ngày phỏng vấn | E2: Bảng hỏi số | F2: Câu 1.1 | H2: C1.2 | I2: C1.3 | J2: C1.4 | K2: C1.5 | L2: C1.6 | M2: C1.7 | N2: C1.8 | O2: Câu 2 | P2: Câu 3 | Q2: Câu 4 | R2: Câu 5 | S2: Câu 6.1 | T2: Câu 6.2 | U2: Câu 7 | V2: Câu 8.1 | W2: C8.2 | X2: Câu 9.1 | Y2: Câu 9.2 | Z2: Câu 10.1 | AA2: Câu 10.2 | AB2: Câu 11.1 | AC2: Câu 11.2.1 | AD2: Câu 11.2.2 | AE2: Câu 12 | AH2: Câu 12 | AK2: Câu 12 | AN2: Câu 12 | AQ2: Câu 12 | AT2: Câu 12 | AW2: Câu 12 | AZ2: Câu 13.1 | BA2: Câu 13.2 | BB2: Câu 14.1 | BC2: Câu 14.2 | BD2: Câu 15.1 | BE2: Câu 15.2 | BF2: Câu 16.1 | BG2: Câu 16.2 | BH2: Câu 17 | BM2: Câu 17 | BR2: Câu 17 | BW2: Câu 17 | CB2: Câu 17 | CG2: Câu 18 | CK2: Câu 19 | CO2: Câu 19 | CS2: Câu 19 | CW2: Câu 19 | DA2: Câu 19 | DE2: Câu 20 | DJ2: Câu 21 | DK2: Câu 22 | DP2: Câu 23
DP3: Kiến thức lý thuyết về nghề | EQ3: Kỹ năng thực tiễn nghề nghiệp (Kỹ năng cứng) | FJ3: Kỹ năng thực tiễn nghề nghiệp (Kỹ năng mềm) | GG3: Thái độ làm việc
F4: Tên doanh nghiệp | H4: Huyện/Quận/Thị xã /TP thuộc tỉnh | I4: Xã/Phường/Thị trấn | J4: Số nhà/Đường/Phố (Thôn/Xóm) | K4: Tỉnh/Thành phố | L4: Tên người trả lời phỏng vấn | M4: eMail của người trả lời phỏng vấn | N4: Số điện thoại của người trả lời phỏng vấn | O4: Loại hình doanh nghiệp | P4: Doanh nghiệp thuộc tập đoàn/TCT | Q4: Số lao động thuộc doanh nghiệp | R4: Số lao động thuộc tập đoàn/TCT | S4: Ngành nghề sản xuất/kinh doanh | T4: Ngành khác | U4: Thị trường hoạt động | V4: Có sản xuất/lắp ráp hàng hóa không? | W4: Doanh nghiệp sử dụng công nghệ SX/LR nào? | X4: Doanh nghiệp có sử dụng những biện pháp bảo vệ môi trường không? | Y4: Đề nghị ghi rõ | Z4: Doanh nghiệp có kế hoạch làm thế nào để sử dụng năng lượng và các nguồn tài nguyên khác một cách hiệu quả không? | AA4: Đề nghị ghi rõ | AB4: Doanh nghiệp có kế hoạch tuyển dụng lao động? | AC4: Lao động không có trình độ nghề/ chuyên môn kỹ thuật | AD4: Lao động có trình độ nghề/ chuyên môn kỹ thuật | AE4: Mã nghề số 1 | AF4: Nghề số 1 | AG4: Số lao động tuyển dụng | AH4: Mã nghề số 2 | AI4: Nghề số 2 | AJ4: Số lao động tuyển dụng | AK4: Mã nghề số 3 | AL4: Tên nghề số 3 | AM4: Số lao động tuyển dụng | AN4: Mã nghề số 4 | AO4: Nghề số 4 | AP4: Số lao động tuyển dụng | AQ4: Mã nghề số 5 | AR4: Tên nghề số 5 | AS4: Số lao động tuyển dụng | AT4: Mã nghề số 6 | AU4: Tên nghề số 6 | AV4: Số lao động tuyển dụng | AW4: Mã nghề số 7 | AX4: Tên nghề số 7 | AY4: Số lao động tuyển dụng | AZ4: Doanh nghiệp đã tuyển dụng người lao động bị khuyết tật trong thời gian trước đây? | BA4: Đề nghị ghi rõ bao nhiêu người | BB4: Người lao động bị khuyết tật có thể đảm nhận những công việc giống như công việc của những lao động bình thường khác trong doanh nghiệp của Ông/Bà không? | BC4: Đề nghị nêu rõ lý do | BD4: Ông/Bà có nhìn thấy tiềm năng việc làm ở trong doanh nghiệp của Ông/Bà giành cho người lao động bị khuyết tật? | BE4: Đề nghị nêu rõ trong lĩnh vực nào | BF4: Doanh nghiệp của Ông/Bà có triển khai các biện pháp để người khuyết tật có thể hòa nhập vào công việc khi làm việc tại doanh nghiệp không? | BG4: Đề nghị nêu rõ trong lĩnh vực nào | BH4: Mã nghề số 1 | BI4: Tên nghề số 1 | BJ4: Số lượng người lao động được tuyển dụng | BK4: Mức thu nhập | BL4: Khó khăn trong tuyển dụng | BM4: Mã nghề số 2 | BN4: Tên nghề số 2 | BO4: Số lượng người lao động được tuyển dụng | BP4: Mức thu nhập | BQ4: Khó khăn trong tuyển dụng | BR4: Mã nghề số 3 | BS4: Tên nghề số 3 | BT4: Số lượng người lao động được tuyển dụng | BU4: Mức thu nhập | BV4: Khó khăn trong tuyển dụng | BW4: Mã nghề số 4 | BX4: Tên nghề số 4 | BY4: Số lượng người lao động được tuyển dụng | BZ4: Mức thu nhập | CA4: Khó khăn trong tuyển dụng | CB4: Mã nghề số 5 | CC4: Tên nghề số 5 | CD4: Số lượng người lao động được tuyển dụng | CE4: Mức thu nhập | CF4: Khó khăn trong tuyển dụng | CG4: Khó khăn trong việc tuyển dụng lao động | CH4: Khó khăn khác 1 | CI4: Khó khăn khác 2 | CJ4: Khó khăn khác 3 | CK4: =IF($BH4="","",$BH4) -> Mã nghề số 1 | CL4: Tên nghề số 1 | CM4: Cần thiết đào tạo không? | CN4: Số ngày đào tạo | CO4: Mã nghề số 2 | CP4: Tên nghề số 2 | CQ4: Cần thiết đào tạo không? | CR4: Số ngày đào tạo | CS4: =IF($BR4="","",$BR4) -> Mã nghề số 3 | CT4: Tên nghề số 3 | CU4: Cần thiết đào tạo không? | CV4: Số ngày đào tạo | CW4: =IF($BW4="","",$BW4) -> Mã nghề số 4 | CX4: Tên nghề số 4 | CY4: Cần thiết đào tạo không? | CZ4: Số ngày đào tạo | DA4: =IF($CB4="","",$CB4) -> Mã nghề số 5 | DB4: Tên nghề số 5 | DC4: Cần thiết đào tạo không? | DD4: Số ngày đào tạo | DE4: Mức độ hài lòng của doanh nghiệp về HVTN nghề số 1 | DF4: Mức độ hài lòng của doanh nghiệp về HVTN nghề số 2 | DG4: Mức độ hài lòng của doanh nghiệp về HVTN nghề số 3 | DH4: Mức độ hài lòng của doanh nghiệp về HVTN nghề số 4 | DI4: Mức độ hài lòng của doanh nghiệp về HVTN nghề số 5 | DJ4: Doanh nghiệp đã tuyển dụng từ các cơ sở dạy nghề khác | DK4: Mức độ hài lòng của doanh nghiệp về HVTN nghề số 1 | DL4: Mức độ hài lòng của doanh nghiệp về HVTN nghề số 2 | DM4: Mức độ hài lòng của doanh nghiệp về HVTN nghề số 3 | DN4: Mức độ hài lòng của doanh nghiệp về HVTN nghề số 4 | DO4: Mức độ hài lòng của doanh nghiệp về HVTN nghề số 5 | DP4: Mức độ quan trọng Khoa học ứng dụng (A) | DQ4: Mức độ thiếu năng lực Khoa học ứng dụng (B) | DR4: Mức độ quan trọng của Ngoại ngữ (A) | DS4: Mức độ thiếu năng lực Ngoại ngữ (B) | DT4: Mức độ quan trọng của Công nghệ kỹ thuật và sản xuất (A) | DU4: Mức độ thiếu năng lực Công nghệ kỹ thuật và sản xuất (B) | DV4: Mức độ quan trọng của Chế tạo và chế biến (A) | DW4: Mức độ thiếu năng lực Chế tạo và chế biến (B) | DX4: Mức độ quan trọng của Máy tính và viễn thông (A) | DY4: Mức độ thiếu năng lực Máy tính và viễn thông (B) | DZ4: Mức độ quan trọng của Quản trị và điều hành/quản lý (A) | EA4: Mức độ thiếu năng lực Quản trị và điều hành/quản lý (B) | EB4: Mức độ quan trọng của Các điều lệ và tiêu chuẩn chất lượng (A) | EC4: Mức độ thiếu năng lực Các điều lệ và tiêu chuẩn chất lượng (B) | ED4: Mức độ quan trọng của Vận chuyển và sắp xếp lưu kho (A) | EE4: Mức độ thiếu năng lực Vận chuyển và sắp xếp lưu kho (B) | EF4: Mức độ quan trọng của Sức khỏe và an toàn lao động (A) | EG4: Mức độ thiếu năng lực Sức khỏe và an toàn lao động (B) | EH4: Mức độ quan trọng của Bảo vệ môi trường và công nghệ xanh (A) | EI4: Mức độ thiếu năng lực Bảo vệ môi trường và công nghệ xanh (B) | EJ4: Mức độ quan trọng của Đạo đức nghề nghiệp (A) | EK4: Mức độ thiếu năng lực Đạo đức nghề nghiệp (B) | EL4: Mức độ quan trọng của Quản lý nguồn lực: sử dụng năng lượng,vật liệu thừa một cách hiệu quả, tài chế/tái sử dụng vật liệu nhằm hạn chế việc sử dụng nguồn tài nguyên (A) | EM4: Mức độ thiếu năng lực Quản lý nguồn lực: sử dụng năng lượng,vật liệu thừa một cách hiệu quả, tài chế/tái sử dụng vật liệu nhằm hạn chế việc sử dụng nguồn tài nguyên (B) | EN4: Tên kiến thức lý thuyết khác (ghi rõ) | EO4: Mức độ quan trọng của kiến thức lý thuyết nghề khác (A) | EP4: Mức độ thiếu năng lực của kiến thức lý thuyết nghề khác (B) | EQ4: Mức độ quan trọng của Thao tác và vận chuyển nguyên vật liệu, công cụ, linh kiện, thiết vị và máy móc (A) | ER4: Mức độ thiếu năng lực Thao tác và vận chuyển nguyên vật liệu, công cụ, linh kiện, thiết vị và máy móc (B) | ES4: Mức độ quan trọng của Sử dụng thiết bị đo đạc, kiểm tra và căn chỉnh theo tiêu chuẩn (A) | ET4: Mức độ thiếu năng lực Sử dụng thiết bị đo đạc, kiểm tra và căn chỉnh theo tiêu chuẩn (B) | EU4: Mức độ quan trọng của Cài đặt và vận hành máy móc, thiết bị và dụng cụ cho sản xuất (A) | EV4: Mức độ thiếu năng lực Cài đặt và vận hành máy móc, thiết bị và dụng cụ cho sản xuất (B) | EW4: Mức độ quan trọng của Thực hiện các công việc vận hành trong một dây chuyền sản xuất theo qui cách (A) | EX4: Mức độ thiếu năng lực Thực hiện các công việc vận hành trong một dây chuyền sản xuất theo qui cách (B) | EY4: Mức độ quan trọng của Lắp ráp, lắp đặt, kiểm tra các bộ phận, thiết bị, máy móc, hệ thống, etc. (A) | EZ4: Mức độ thiếu năng lực Lắp ráp, lắp đặt, kiểm tra các bộ phận, thiết bị, máy móc, hệ thống, etc. (B) | FA4: Mức độ quan trọng của Bảo trì, bảo dưỡng và sửa chữa/thay thế các bộ phận, thiết bị/máy móc (A) | FB4: Mức độ thiếu năng lực Bảo trì, bảo dưỡng và sửa chữa/thay thế các bộ phận, thiết bị/máy móc (B) | FC4: Mức độ quan trọng của Sử dụng bản đồ, bản thiết kế, bản vẽ và các chỉ dẫn kỹ thuật (A) | FD4: Mức độ thiếu năng lực Sử dụng bản đồ, bản thiết kế, bản vẽ và các chỉ dẫn kỹ thuật (B) | FE4: Mức độ quan trọng của Sử dụng năng lượng và vật liệu thừa hiệu quả/ sử dụng hệ thống tái chế (A) | FF4: Mức độ thiếu năng lực Sử dụng năng lượng và vật liệu thừa hiệu quả/ sử dụng hệ thống tái chế (B) | FG4: Tên kỹ năng cứng khác (Ghi rõ) | FH4: Mức độ quan trọng (A) | FI4: Mức độ thiếu năng lực (B) | FJ4: Mức độ quan trọng Thu thập, xử lý, quản lý thông tin (A) | FK4: Mức độ thiếu năng lực Thu thập, xử lý, quản lý thông tin (B) | FL4: Mức độ quan trọng của Làm việc với người khác theo nhóm (A) | FM4: Mức độ thiếu năng lực Làm việc với người khác theo nhóm (B) | FN4: Mức độ quan trọng của Sử dụng các khái niệm và kỹ thuật toán học (A) | FO4: Mức độ thiếu năng lực Sử dụng các khái niệm và kỹ thuật toán học (B) | FP4: Mức độ quan trọng của Đưa ra các quyết định và giải quyết các vấn đề (A) | FQ4: Mức độ thiếu năng lực Đưa ra các quyết định và giải quyết các vấn đề (B) | FR4: Mức độ quan trọng của Tổ chức, lên kế hoạch và xắp xếp thứ tự ưu tiên công việc (A) | FS4: Mức độ thiếu năng lực Tổ chức, lên kế hoạch và xắp xếp thứ tự ưu tiên công việc (B) | FT4: Mức độ quan trọng của Sử dụng công nghệ máy tính, thiết bị điều khiển và phần mềm điều khiển (A) | FU4: Mức độ thiếu năng lực Sử dụng công nghệ máy tính, thiết bị điều khiển và phần mềm điều khiển (B) | FV4: Mức độ quan trọng của Hỗ trợ triển khai đào tạo trong chỗ làm (A) | FW4: Mức độ thiếu năng lực Hỗ trợ triển khai đào tạo trong chỗ làm (B) | FX4: Mức độ quan trọng của Áp dụng các điều lệ, quy định về an toàn và sức khỏe nghề nghiệp (A) | FY4: Mức độ thiếu năng lực Áp dụng các điều lệ, quy định về an toàn và sức khỏe nghề nghiệp (B) | FZ4: Mức độ quan trọng của Thúc đẩy và áp dụng các biện pháp bảo vệ môi trường và tiết kiệm năng lượng (A) | GA4: Mức độ thiếu năng lực Thúc đẩy và áp dụng các biện pháp bảo vệ môi trường và tiết kiệm năng lượng (B) | GB4: Mức độ quan trọng của Cung cấp các dịch vụ chăm sóc khách hàng (A) | GC4: Mức độ thiếu năng lực Cung cấp các dịch vụ chăm sóc khách hàng (B) | GD4: Tên kỹ năng mềm khác (ghi rõ) | GE4: Mức độ quan trọng kỹ năng mềm khác (A) | GF4: Mức độ thiếu năng lực kỹ năng mềm khác (B) | GG4: Mức độ quan trọng của Đáng tin cậy, có trách nhiệm (A) | GH4: Mức độ thiếu năng lực Đáng tin cậy, có trách nhiệm (B) | GI4: Mức độ quan trọng của Chính trực, tôn trọng (A) | GJ4: Mức độ thiếu năng lực Chính trực, tôn trọng (B) | GK4: Mức độ quan trọng của Tận tâm, trung thành, cống hiến (A) | GL4: Mức độ thiếu năng lực Tận tâm, trung thành, cống hiến (B) | GM4: Mức độ quan trọng của Chính xác, cẩn thận, tập trung (A) | GN4: Mức độ thiếu năng lực Chính xác, cẩn thận, tập trung (B) | GO4: Mức độ quan trọng của Kỷ luật, ngăn nắp, đúng giờ (A) | GP4: Mức độ thiếu năng lực Kỷ luật, ngăn nắp, đúng giờ (B) | GQ4: Mức độ quan trọng của Hợp tác, giúp đỡ (A) | GR4: Mức độ thiếu năng lực Hợp tác, giúp đỡ (B) | GS4: Mức độ quan trọng của Linh hoạt, dễ thích nghi (A) | GT4: Mức độ thiếu năng lực Linh hoạt, dễ thích nghi (B) | GU4: Mức độ quan trọng của Sẵn sàng học hỏi, định hướng nghề nghiệp, có tham vọng, có động lực (A) | GV4: Mức độ thiếu năng lực Sẵn sàng học hỏi, định hướng nghề nghiệp, có tham vọng, có động lực (B) | GW4: Mức độ quan trọng của Tính sáng tạo, đổi mới (A) | GX4: Mức độ thiếu năng lực sáng tạo, đổi mới (B) | GY4: Mức độ quan trọng của Chịu khó, chịu được áp lực (A) | GZ4: Mức độ thiếu năng lực chịu được áp lực (B) | HA4: Mức độ quan trọng của Các nghi thức cử chỉ xã giao công việc (A) | HB4: Mức độ thiếu năng lực về Các nghi thức cử chỉ xã giao công việc (B) | HC4: Thái độ làm việc khác (ghi rõ) | HD4: Mức độ quan trọng (A) | HE4: Mức độ thiếu năng lực (B)
A5: Trường Cao Đẳng Lý Tự Trọng Thành phố Hồ Chí Minh | B5: 1 | C5: Phan Đức Long | F5: Công ty TNHH MTV XLKT Điện Cơ Mạnh Tín | H5: Quận Thủ Đức | I5: Phường Hiệp Bình Phước | J5: 331 Quốc Lộ 13 | K5: Thành phố Hồ Chí Minh | L5: Phạm Văn Minh | M5: minh.pv@meteccons.vn | N5: 903959064 | O5: Doanh nghiệp ngoài Nhà nước | P5: Không | Q5: 1300 | R5: 1300 | T5: Cung cấp và lắp đặt hệ thống Điện, Nước, Lạnh | U5: Thị trường trong nước | V5: Có | W5: Bán tự động | X5: Có | Y5: Sử dụng năng lượng Xanh | Z5: Có | AA5: Năng lượng mặt trời | AB5: Có | AD5: 300 | AE5: 2 | AF5: Hàn | AG5: 10 | AH5: 4 | AI5: Điện Công nghiệp | AJ5: 200 | AK5: 5 | AL5: Công nghệ điều khiển và lắp đặt điện công nghiệp | AM5: 10 | AN5: 14 | AO5: Kỹ thuật máy lạnh và điều hòa không khí | AP5: 20 | AQ5: 6 | AR5: Cơ điện tử | AS5: 10 | AZ5: Không | BB5: Không | BD5: Không | BF5: Không | BH5: 2 | BI5: Hàn | BJ5: 10 | BL5: Không | BM5: 4 | BN5: Điện công nghiệp | BO5: 200 | BQ5: Không | BR5: 5 | BS5: Công nghiệp điều khiển và lắp đặt điện trong công nghiệp | BT5: 10 | BV5: Không | CB5: 6 | CC5: Cơ điện tử | CD5: 10 | CF5: Không | CG5: (1) Thiếu lao động đáp ứng yêu cầu về CMKT | CK5: 2 | CL5: Hàn | CM5: Không | CO5: 4 | CP5: Điện công nghiệp | CQ5: Không | CS5: 5 | CT5: Công nghệ điều khiển và lắp đặt điện trong công nghiệp | CU5: Có | CV5: 30 | CW5: 14 | CX5: Kỹ thuật máy lạnh và điều hòa không khí | CY5: Không | DA5: 6 | DB5: Cơ điện tử | DC5: Không | DE5: Phần lớn hài lòng | DF5: Hoàn toàn hài lòng | DG5: Hoàn toàn hài lòng | DH5: Phần lớn hài lòng | DI5: Hài lòng | DJ5: Có | DK5: Phần lớn hài lòng | DL5: Hoàn toàn hài lòng | DM5: Hoàn toàn hài lòng | DN5: Hài lòng | DO5: Phần lớn hài lòng | DP5: Rất quan trọng | DQ5: Thiếu ít | DR5: Rất quan trọng | DS5: Thiếu trung bình | DT5: Rất quan trọng | DU5: Thiếu ít | DX5: Rất quan trọng | DY5: Hoàn toàn không thiếu | DZ5: Rất quan trọng | EA5: Thiếu ít | EB5: Rất quan trọng | EC5: Thiếu trung bình | ED5: Rất quan trọng | EE5: Thiếu ít | EF5: Rất quan trọng | EG5: Thiếu ít | EH5: Rất quan trọng | EI5: Hoàn toàn không thiếu | EJ5: Rất quan trọng | EK5: Hoàn toàn không thiếu | EL5: Rất quan trọng | EM5: Hoàn toàn không thiếu | EQ5: Quan trọng | ER5: Thiếu nhiều | ES5: Rất quan trọng | ET5: Thiếu trung bình | EU5: Rất quan trọng | EV5: Thiếu trung bình | EW5: Bình thường | EX5: Thiếu nhiều | EY5: Rất quan trọng | EZ5: Hoàn toàn không thiếu | FB5: Thiếu ít | FC5: Rất quan trọng | FD5: Hoàn toàn không thiếu | FE5: Rất quan trọng | FF5: Thiếu trung bình | FJ5: Rất quan trọng | FK5: Thiếu trung bình | FL5: Rất quan trọng | FM5: Thiếu ít | FN5: Bình thường | FO5: Thiếu nhiều | FP5: Rất quan trọng | FQ5: Thiếu ít | FR5: Rất quan trọng | FS5: Thiếu ít | FT5: Quan trọng | FU5: Thiếu ít | FV5: Bình thường | FW5: Thiếu nhiều | FX5: Bình thường | FY5: Thiếu trung bình | FZ5: Quan trọng | GA5: Thiếu ít | GB5: Rất quan trọng | GC5: Thiếu trung bình | GG5: Rất quan trọng | GH5: Hoàn toàn không thiếu | GI5: Rất quan trọng | GJ5: Hoàn toàn không thiếu | GK5: Rất quan trọng | GL5: Thiếu ít | GM5: Rất quan trọng | GN5: Thiếu ít | GO5: Rất quan trọng | GP5: Thiếu ít | GQ5: Rất quan trọng | GR5: Thiếu ít | GS5: Rất quan trọng | GT5: Hoàn toàn không thiếu | GU5: Rất quan trọng | GV5: Thiếu ít | GW5: Rất quan trọng | GX5: Thiếu ít | GY5: Rất quan trọng | GZ5: Thiếu ít | HA5: Rất quan trọng | HB5: Thiếu ít
A6: Trường Cao Đẳng Lý Tự Trọng Thành phố Hồ Chí Minh | B6: 2 | C6: Phan Đức Long | F6: Công ty Cổ Phần MePac | H6: Quận 7 | I6: Phường Tân Hưng | J6: 52 Đường Số 2 | K6: Thành phố Hồ Chí Minh | L6: Trần Thị Trúc Uyên | M6: uyen.tran@mepac.vn | N6: 988622964 | O6: Doanh nghiệp ngoài Nhà nước | P6: Không | Q6: 203 | R6: 203 | T6: Thi công Cơ điện | U6: Thị trường trong nước | V6: Không | X6: Có | Y6: Sử dụng vật liệu tái sử dụng | Z6: Có | AA6: Sử dụng Pin năng lượng mặt trời trong một số dự án | AB6: Có | AC6: 20 | AD6: 80 | AE6: 4 | AF6: Điện công nghiệp | AG6: 40 | AH6: 6 | AI6: Cơ điện tử | AJ6: 10 | AK6: 14 | AL6: Kỹ thuật máy lạnh và điều hòa không khí | AM6: 30 | AZ6: Không | BB6: Không | BC6: Do tính chất công trình | BD6: Không | BF6: Không | BH6: 4 | BI6: Điện công nghiệp | BJ6: 10 | BK6: 9000000 | BL6: Không | BM6: 6 | BN6: Cơ điện tử | BO6: 5 | BP6: 9000000 | BQ6: Không | CG6: (1) Thiếu lao động đáp ứng yêu cầu về CMKT | CK6: 4 | CL6: Điện công nghiệp | CM6: Có | CN6: 30 | CO6: 6 | CP6: Cơ điện tử | CQ6: Có | CR6: 30 | DE6: Phần lớn hài lòng | DF6: Phần lớn hài lòng | DJ6: Có | DK6: Phần lớn hài lòng | DL6: Phần lớn hài lòng | DP6: Quan trọng | DQ6: Thiếu trung bình | DR6: Không quan trọng | DS6: Thiếu nhiều | DT6: Bình thường | DU6: Thiếu ít | DV6: Không quan trọng | DW6: Thiếu ít | DX6: Quan trọng | DY6: Thiếu nhiều | DZ6: Quan trọng | EA6: Thiếu trung bình | EB6: Bình thường | EC6: Thiếu nhiều | ED6: Bình thường | EE6: Thiếu trung bình | EF6: Quan trọng | EG6: Thiếu trung bình | EH6: Quan trọng | EI6: Thiếu trung bình | EJ6: Quan trọng | EK6: Thiếu ít | EL6: Quan trọng | EM6: Thiếu trung bình | EQ6: Bình thường | ER6: Thiếu ít | ES6: Quan trọng | ET6: Thiếu trung bình | EU6: Không quan trọng | EV6: Thiếu ít | EW6: Không quan trọng | EX6: Thiếu ít | EY6: Không quan trọng | EZ6: Thiếu ít | FA6: Bình thường | FB6: Thiếu ít | FC6: Quan trọng | FD6: Thiếu trung bình | FE6: Bình thường | FF6: Thiếu trung bình | FJ6: Quan trọng | FK6: Thiếu ít | FL6: Quan trọng | FM6: Thiếu ít | FN6: Bình thường | FO6: Thiếu trung bình | FP6: Bình thường | FQ6: Thiếu ít | FR6: Quan trọng | FS6: Thiếu trung bình | FT6: Không quan trọng | FU6: Thiếu ít | FV6: Bình thường | FW6: Thiếu ít | FX6: Quan trọng | FY6: Thiếu ít | FZ6: Quan trọng | GA6: Thiếu ít | GB6: Bình thường | GC6: Thiếu trung bình | GG6: Quan trọng | GH6: Thiếu ít | GI6: Quan trọng | GJ6: Thiếu ít | GK6: Quan trọng | GL6: Thiếu ít | GM6: Quan trọng | GN6: Thiếu ít | GO6: Quan trọng | GP6: Thiếu ít | GQ6: Quan trọng | GR6: Thiếu ít | GS6: Quan trọng | GT6: Thiếu ít | GU6: Quan trọng | GV6: Thiếu ít | GW6: Quan trọng | GX6: Thiếu ít | GY6: Quan trọng | GZ6: Thiếu ít | HA6: Quan trọng | HB6: Thiếu ít
A7: Trường Cao Đẳng Lý Tự Trọng Thành phố Hồ Chí Minh | B7: 3 | C7: Phan Đức Long | F7: Công ty TNHH ÔTÔ Tiên Phong | H7: Quận Tân Bình | I7: Phường 4 | J7: 19 Trường Sơn | K7: Thành phố Hồ Chí Minh | L7: Dương Tấn Hải | M7: duongtanhai1986@gmail.com | N7: 983991223 | O7: Doanh nghiệp ngoài Nhà nước | P7: Có | Q7: 120 | R7: 120 | S7: Thương mại & Dịch vụ (Bán buôn, bán lẻ) | U7: Thị trường trong nước | V7: Không | X7: Có | Y7: Máy hút khí sơn, Phân Loại rác thải, xử lý nước thải | AB7: Không | AZ7: Không | BB7: Không | BC7: Do tính chất đặc thù của côn ty | BD7: Không | BF7: Không | BH7: 9 | BI7: Chế tạo thiết bị cơ khí | BJ7: 3 | BK7: 8000000 | BL7: Không | BM7: 2 | BN7: Hàn | BO7: 5 | BP7: 9.000.000 | BQ7: Có | CG7: (1) Thiếu lao động đáp ứng yêu cầu về CMKT | CK7: 9 | CL7: Chế tao thiết bị cơ khí | CM7: Có | CN7: 30 | CO7: 2 | CP7: Hàn | CQ7: Có | CR7: 30 | DE7: Hài lòng | DF7: Hài lòng | DJ7: Có | DK7: Phần lớn hài lòng | DL7: Phần lớn hài lòng | DP7: Bình thường | DQ7: Thiếu trung bình | DR7: Quan trọng | DS7: Thiếu nhiều | DT7: Quan trọng | DU7: Thiếu ít | DV7: Bình thường | DW7: Thiếu trung bình | DX7: Bình thường | DY7: Thiếu trung bình | DZ7: Bình thường | EA7: Thiếu nhiều | EB7: Quan trọng | EC7: Thiếu trung bình | ED7: Quan trọng | EE7: Thiếu trung bình | EF7: Quan trọng | EG7: Thiếu trung bình | EH7: Bình thường | EI7: Thiếu trung bình | EJ7: Quan trọng | EK7: Thiếu trung bình | EL7: Quan trọng | EM7: Thiếu trung bình | EQ7: Quan trọng | ER7: Thiếu trung bình | ES7: Quan trọng | ET7: Thiếu trung bình | EU7: Quan trọng | EV7: Thiếu trung bình | EW7: Bình thường | EX7: Thiếu trung bình | EY7: Bình thường | EZ7: Thiếu trung bình | FA7: Quan trọng | FB7: Thiếu ít | FC7: Bình thường | FD7: Thiếu trung bình | FE7: Bình thường | FF7: Thiếu trung bình | FJ7: Quan trọng | FK7: Thiếu trung bình | FL7: Quan trọng | FM7: Thiếu trung bình | FN7: Bình thường | FO7: Thiếu trung bình | FP7: Quan trọng | FQ7: Thiếu trung bình | FR7: Quan trọng | FS7: Thiếu trung bình | FT7: Quan trọng | FU7: Thiếu trung bình | FV7: Quan trọng | FW7: Thiếu trung bình | FX7: Quan trọng | FY7: Thiếu trung bình | FZ7: Bình thường | GA7: Thiếu trung bình | GB7: Quan trọng | GC7: Thiếu trung bình | GG7: Rất quan trọng | GH7: Thiếu ít | GI7: Rất quan trọng | GJ7: Thiếu ít | GK7: Rất quan trọng | GL7: Thiếu trung bình | GM7: Rất quan trọng | GN7: Thiếu trung bình | GO7: Rất quan trọng | GP7: Thiếu ít | GQ7: Rất quan trọng | GR7: Thiếu trung bình | GS7: Rất quan trọng | GT7: Thiếu trung bình | GU7: Rất quan trọng | GV7: Thiếu ít | GW7: Rất quan trọng | GX7: Thiếu trung bình | GY7: Rất quan trọng | GZ7: Thiếu trung bình | HA7: Rất quan trọng | HB7: Thiếu ít
A8: Trường Cao Đẳng Lý Tự Trọng Thành phố Hồ Chí Minh | B8: 4 | C8: Phan Đức Long | F8: Công ty TNHH TMVT và DL Gia Đình Việt | H8: Quận Tân Bình | I8: Phường 2 | J8: 99C Phổ Quang | K8: Thành phố Hồ Chí Minh | L8: Nguyễn Hải Nam | N8: 911769900 | O8: Doanh nghiệp Nhà nước | P8: Không | Q8: 150 | R8: 150 | S8: Thương mại & Dịch vụ (Bán buôn, bán lẻ) | U8: Cả hai | V8: Có | W8: Bán tự động | X8: Có | Y8: Không xã rác, khí thải chưa qua xử lí ra ngoài môi trường | Z8: Không | AB8: Có | AD8: 150 | AE8: 2 | AF8: Hàn | AG8: 30 | AH8: 13 | AI8: Công nghệ ô tô | AJ8: 50 | AK8: 14 | AL8: Kỹ thuật máy lạnh và điều hòa không khí | AM8: 30 | AN8: 4 | AO8: Điện công nghiệp | AP8: 30 | AQ8: 12 | AR8: Công nghệ thông tin | AS8: 10 | AZ8: Không | BB8: Không | BC8: Do tính chất đặc thù của côn ty | BD8: Không | BF8: Không | BH8: 2 | BI8: Hàn | BJ8: 3 | BK8: 8000000 | BL8: Có | BM8: 4 | BN8: Điện công nghiệp | BO8: 5 | BP8: 7000000 | BQ8: Không | CG8: (1) Thiếu lao động đáp ứng yêu cầu về CMKT | CK8: 2 | CL8: Hàn | CM8: Có | CN8: 20 | CO8: 4 | CP8: Điện công nghiệp | CQ8: Có | CR8: 30 | DE8: Hoàn toàn hài lòng | DF8: Phần lớn hài lòng | DJ8: Không | DK8: Phần lớn hài lòng | DL8: Phần lớn hài lòng | DP8: Bình thường | DQ8: Hoàn toàn không thiếu | DR8: Bình thường | DS8: Thiếu trung bình | DT8: Rất quan trọng | DU8: Thiếu ít | DV8: Bình thường | DW8: Thiếu trung bình | DX8: Bình thường | DY8: Thiếu trung bình | DZ8: Bình thường | EA8: Thiếu nhiều | EB8: Quan trọng | EC8: Thiếu trung bình | ED8: Quan trọng | EE8: Thiếu trung bình | EF8: Quan trọng | EG8: Thiếu trung bình | EH8: Bình thường | EI8: Thiếu trung bình | EJ8: Quan trọng | EK8: Thiếu trung bình | EL8: Quan trọng | EM8: Thiếu trung bình | EQ8: Quan trọng | ER8: Thiếu trung bình | ES8: Quan trọng | ET8: Thiếu trung bình | EU8: Quan trọng | EV8: Thiếu trung bình | EW8: Bình thường | EX8: Thiếu trung bình | EY8: Quan trọng | EZ8: Thiếu trung bình | FA8: Quan trọng | FB8: Thiếu trung bình | FC8: Bình thường | FD8: Thiếu trung bình | FE8: Bình thường | FF8: Thiếu trung bình | FJ8: Quan trọng | FK8: Thiếu trung bình | FL8: Quan trọng | FM8: Thiếu trung bình | FN8: Bình thường | FO8: Thiếu trung bình | FP8: Quan trọng | FQ8: Thiếu trung bình | FR8: Quan trọng | FS8: Thiếu trung bình | FT8: Quan trọng | FU8: Thiếu trung bình | FV8: Quan trọng | FW8: Thiếu trung bình | FX8: Bình thường | FY8: Thiếu trung bình | FZ8: Bình thường | GA8: Thiếu trung bình | GB8: Quan trọng | GC8: Thiếu trung bình | GG8: Quan trọng | GH8: Thiếu trung bình | GI8: Quan trọng | GJ8: Thiếu trung bình | GK8: Quan trọng | GL8: Thiếu trung bình | GM8: Quan trọng | GN8: Thiếu trung bình | GO8: Quan trọng | GP8: Thiếu trung bình | GQ8: Quan trọng | GR8: Thiếu trung bình | GS8: Quan trọng | GT8: Thiếu trung bình | GU8: Quan trọng | GV8: Thiếu trung bình | GW8: Quan trọng | GX8: Thiếu trung bình | GY8: Quan trọng | GZ8: Thiếu trung bình | HA8: Quan trọng | HB8: Thiếu trung bình
A9: Trường Cao Đẳng Lý Tự Trọng Thành phố Hồ Chí Minh | B9: 5 | C9: Phan Đức Long | F9: Công ty Cổ Phần dây cáp điện DAPHACO | H9: Quận 12 | I9: Tân Thới Nhất | J9: 15/15, KP5, Đường Phan Văn Hớn | K9: Thành phố Hồ Chí Minh | L9: Nguyễn Trung Tuyến | M9: trungtuyen@daphaco.com | N9: 903928881 | O9: Doanh nghiệp ngoài Nhà nước | P9: Không | Q9: 300 | R9: 300 | T9: Sản xuất, Thương mại day cáp điện | U9: Cả hai | V9: Có | W9: Bán tự động | X9: Không | Z9: Không | AB9: Có | AC9: 30 | AD9: 30 | AE9: 2 | AF9: Hàn | AG9: 2 | AH9: 4 | AI9: Điện công nghiệp | AJ9: 10 | AK9: 6 | AL9: Cơ điện tử | AM9: 6 | AN9: 7 | AO9: Điện tử công nghiệp | AP9: 4 | AQ9: 8 | AR9: Điện tử dân dụng | AS9: 4 | AT9: 15 | AU9: Bảo dưỡng hệ thống thiết bị cơ khí | AV9: 4 | AZ9: Không | BB9: Có | BD9: Có | BE9: Lắp ráp thủ công nhẹ | BF9: Không | BH9: 4 | BI9: Điện công nghiệp | BJ9: 3 | BK9: 7500000 | BL9: Có | BM9: 2 | BN9: Hàn | BO9: 1 | BP9: 8500000 | BQ9: Có | BR9: 6 | BS9: Cơ điện tử | BT9: 2 | BU9: 7500000 | BV9: Có | BW9: 7 | BX9: Điện tử công nghiệp | BY9: 2 | BZ9: 7500000 | CA9: Có | CG9: (1) Thiếu lao động đáp ứng yêu cầu về CMKT | CK9: 4 | CL9: Điện công nghiệp | CM9: Không | CO9: 2 | CP9: Hàn | CQ9: Không | CS9: 6 | CT9: Cơ điện tử | CU9: Có | CV9: 30 | CW9: 7 | CX9: Điện tử công nghiệp | CY9: Có | CZ9: 90 | DE9: Phần lớn hài lòng | DF9: Phần lớn hài lòng | DG9: Phần lớn hài lòng | DH9: Phần lớn hài lòng | DJ9: Có | DK9: Phần lớn hài lòng | DL9: Phần lớn hài lòng | DM9: Phần lớn hài lòng | DN9: Phần lớn hài lòng | DP9: Rất quan trọng | DQ9: Thiếu trung bình | DR9: Quan trọng | DS9: Thiếu nhiều | DT9: Quan trọng | DU9: Thiếu nhiều | DV9: Bình thường | DW9: Thiếu nhiều | DX9: Bình thường | DY9: Thiếu ít | DZ9: Bình thường | EA9: Thiếu nhiều | EB9: Quan trọng | EC9: Thiếu nhiều | ED9: Bình thường | EE9: Thiếu trung bình | EF9: Quan trọng | EG9: Thiếu trung bình | EH9: Bình thường | EI9: Thiếu nhiều | EJ9: Quan trọng | EK9: Thiếu nhiều | EL9: Quan trọng | EM9: Thiếu trung bình | EQ9: Rất quan trọng | ER9: Thiếu nhiều | ES9: Rất quan trọng | ET9: Thiếu nhiều | EU9: Rất quan trọng | EV9: Thiếu nhiều | EW9: Quan trọng | EX9: Thiếu nhiều | EY9: Quan trọng | EZ9: Thiếu nhiều | FA9: Quan trọng | FB9: Thiếu nhiều | FC9: Rất quan trọng | FD9: Thiếu nhiều | FE9: Rất quan trọng | FF9: Thiếu nhiều | FJ9: Quan trọng | FK9: Thiếu trung bình | FL9: Quan trọng | FM9: Thiếu nhiều | FN9: Quan trọng | FO9: Thiếu trung bình | FP9: Rất quan trọng | FQ9: Thiếu nhiều | FR9: Rất quan trọng | FS9: Thiếu nhiều | FT9: Quan trọng | FU9: Thiếu nhiều | FV9: Quan trọng | FW9: Thiếu trung bình | FX9: Rất quan trọng | FY9: Thiếu trung bình | FZ9: Quan trọng | GA9: Thiếu nhiều | GB9: Quan trọng | GC9: Thiếu nhiều | GG9: Bình thường | GH9: Thiếu trung bình | GI9: Bình thường | GJ9: Thiếu trung bình | GK9: Bình thường | GL9: Thiếu trung bình | GM9: Bình thường | GN9: Thiếu ít | GO9: Bình thường | GP9: Thiếu ít | GQ9: Bình thường | GR9: Thiếu ít | GS9: Bình thường | GT9: Thiếu trung bình | GU9: Bình thường | GV9: Thiếu trung bình | GW9: Bình thường | GX9: Thiếu ít | GY9: Bình thường | GZ9: Thiếu ít | HA9: Bình thường | HB9: Thiếu trung bình
A10: Trường Cao Đẳng Lý Tự Trọng Thành phố Hồ Chí Minh | B10: 6 | C10: Phan Đức Long | F10: Công ty Honda Auto Cộng Hòa | H10: Quận Tân Bình | I10: Phường 4 | J10: 18 Cộng Hòa | K10: Thành phố Hồ Chí Minh | L10: Nguyễn Thanh Tuấn | M10: tuanhondaconghoa@gmail.com | N10: 986300456 | O10: Doanh nghiệp Nhà nước | P10: Có | Q10: 100 | R10: 1000 | S10: Thương mại & Dịch vụ (Bán buôn, bán lẻ) | U10: Cả hai | V10: Không | X10: Có | Y10: Xử lý nước thải | Z10: Có | AA10: sử dụng tiết kiệm nguồn tài nguyên và năng lượng | AB10: Có | AD10: 20 | AE10: 13 | AF10: Công nghệ ô Tô | AG10: 20 | AZ10: Không | BB10: Không | BC10: Do tính chất đặc thù của côn ty | BD10: Không | BF10: Không | CG10: (1) Thiếu lao động đáp ứng yêu cầu về CMKT | CK10: 13 | CL10: Công Nghệ Ô TÔ | CM10: Có | CN10: 10 | DE10: Phần lớn hài lòng | DJ10: Có | DK10: Phần lớn hài lòng | DP10: Bình thường | DQ10: Thiếu ít | DR10: Quan trọng | DS10: Thiếu trung bình | DT10: Quan trọng | DU10: Thiếu trung bình | DV10: Bình thường | DW10: Thiếu trung bình | DX10: Quan trọng | DY10: Thiếu trung bình | DZ10: Quan trọng | EA10: Thiếu trung bình | EB10: Quan trọng | EC10: Thiếu trung bình | ED10: Quan trọng | EE10: Hoàn toàn không thiếu | EF10: Rất quan trọng | EG10: Hoàn toàn không thiếu | EH10: Rất quan trọng | EI10: Hoàn toàn không thiếu | EJ10: Rất quan trọng | EK10: Hoàn toàn không thiếu | EL10: Quan trọng | EM10: Thiếu ít | EQ10: Rất quan trọng | ER10: Thiếu ít | ES10: Quan trọng | ET10: Thiếu ít | EU10: Quan trọng | EV10: Thiếu ít | EW10: Quan trọng | EX10: Thiếu ít | EY10: Quan trọng | EZ10: Hoàn toàn không thiếu | FA10: Rất quan trọng | FB10: Hoàn toàn không thiếu | FC10: Quan trọng | FD10: Thiếu ít | FE10: Quan trọng | FF10: Thiếu ít | FJ10: Quan trọng | FK10: Thiếu ít | FL10: Rất quan trọng | FM10: Hoàn toàn không thiếu | FN10: Quan trọng | FO10: Hoàn toàn không thiếu | FP10: Rất quan trọng | FQ10: Thiếu ít | FR10: Rất quan trọng | FS10: Thiếu ít | FT10: Rất quan trọng | FU10: Thiếu ít | FV10: Rất quan trọng | FW10: Thiếu ít | FX10: Rất quan trọng | FY10: Thiếu ít | FZ10: Rất quan trọng | GA10: Thiếu ít | GB10: Rất quan trọng | GC10: Thiếu ít | GG10: Rất quan trọng | GH10: Hoàn toàn không thiếu | GI10: Rất quan trọng | GJ10: Hoàn toàn không thiếu | GK10: Rất quan trọng | GL10: Hoàn toàn không thiếu | GM10: Rất quan trọng | GN10: Hoàn toàn không thiếu | GO10: Rất quan trọng | GP10: Hoàn toàn không thiếu | GQ10: Rất quan trọng | GR10: Hoàn toàn không thiếu | GS10: Rất quan trọng | GT10: Hoàn toàn không thiếu | GU10: Rất quan trọng | GV10: Thiếu ít | GW10: Rất quan trọng | GX10: Hoàn toàn không thiếu | GY10: Rất quan trọng | GZ10: Thiếu ít | HA10: Rất quan trọng | HB10: Hoàn toàn không thiếu
A11: Trường Cao Đẳng Lý Tự Trọng Thành phố Hồ Chí Minh | B11: 7 | C11: Phan Đức Long | F11: Côn ty TNHH Cơ Điện Lạnh Tân và Kỳ | H11: Quận Tân Bình | I11: Phường 13 | J11: Số 5 | K11: Thành phố Hồ Chí Minh | L11: Phan Minh Trí | M11: tavaky@gmali.com | N11: 9003628260 | O11: Doanh nghiệp ngoài Nhà nước | P11: Không | Q11: 25 | R11: 25 | S11: Thương mại & Dịch vụ (Bán buôn, bán lẻ) | U11: Thị trường trong nước | V11: Có | W11: Thủ công | X11: Có | Y11: Sử dụng Gas lạnh không ảnh hưởng đến Tầng ÔZON | Z11: Không | AB11: Có | AC11: 10 | AD11: 5 | AE11: 14 | AF11: Kỹ Thuật máy lạnh và điều hòa không khí | AG11: 5 | AZ11: Không | BB11: Không | BC11: Do tính chất đặc thù của côn ty | BD11: Không | BF11: Không | BM11: 2 | BN11: Hàn | BO11: 20 | BP11: 8000000 | BQ11: Không | BR11: 3 | BS11: Lắp đặt thiết bị cơ khí | BT11: 2 | BU11: 7000000 | BV11: Không | BW11: 4 | BX11: Điện Công nghiệp | BY11: 2 | BZ11: 6000000 | CA11: Không | CB11: 5 | CC11: Công nghệ điều khiển và lắp đặt điện công nghiệp | CD11: 2 | CE11: 6000000 | CF11: Có | CG11: (2) Các ứng cử xin việc có trình độ thấp | CK11: 14 | CL11: Kỹ thuật máy lạnh và điều hòa không khí | CM11: Có | CN11: 140 | CO11: 2 | CP11: Hàn | CQ11: Có | CR11: 30 | CS11: 3 | CT11: Lắp đặt trang thiết bị cơ khí | CU11: Có | CV11: 60 | CW11: 4 | CX11: Điện công nghiệp | CY11: Có | CZ11: 30 | DA11: 5 | DB11: Công nghệ điều khiển và lắp đặt điện trong công nghiệp | DC11: Có | DD11: 30 | DE11: Hài lòng | DF11: Hài lòng | DG11: Hài lòng | DH11: Hài lòng | DI11: Hài lòng | DJ11: Có | DK11: Hài lòng | DL11: Hài lòng | DM11: Hài lòng | DN11: Hài lòng | DO11: Hài lòng | DP11: Bình thường | DQ11: Thiếu trung bình | DR11: Bình thường | DS11: Thiếu trung bình | DT11: Bình thường | DU11: Thiếu rất nhiều | DV11: Tôi không biết | DW11: Thiếu trung bình | DX11: Bình thường | DY11: Thiếu ít | DZ11: Quan trọng | EA11: Thiếu rất nhiều | EB11: Bình thường | EC11: Thiếu rất nhiều | ED11: Quan trọng | EE11: Thiếu ít | EF11: Bình thường | EG11: Thiếu trung bình | EH11: Bình thường | EI11: Thiếu trung bình | EJ11: Quan trọng | EK11: Thiếu ít | EL11: Bình thường | EM11: Thiếu rất nhiều | EQ11: Bình thường | ER11: Thiếu ít | ES11: Tôi không biết | ET11: Tôi không biết | EU11: Bình thường | EV11: Tôi không biết | EW11: Bình thường | EX11: Thiếu trung bình | EY11: Bình thường | EZ11: Thiếu trung bình | FA11: Tôi không biết | FB11: Thiếu trung bình | FC11: Quan trọng | FD11: Thiếu nhiều | FE11: Bình thường | FF11: Thiếu nhiều | FJ11: Quan trọng | FK11: Thiếu trung bình | FL11: Quan trọng | FM11: Thiếu trung bình | FN11: Quan trọng | FO11: Thiếu trung bình | FP11: Bình thường | FQ11: Thiếu trung bình | FR11: Bình thường | FS11: Thiếu trung bình | FT11: Tôi không biết | FU11: Tôi không biết | FV11: Bình thường | FW11: Tôi không biết | FX11: Quan trọng | FY11: Thiếu trung bình | FZ11: Quan trọng | GA11: Thiếu trung bình | GB11: Quan trọng | GC11: Thiếu trung bình | GG11: Quan trọng | GH11: Thiếu ít | GI11: Quan trọng | GJ11: Thiếu trung bình | GK11: Quan trọng | GL11: Thiếu trung bình | GM11: Quan trọng | GN11: Thiếu trung bình | GO11: Quan trọng | GP11: Thiếu trung bình | GQ11: Bình thường | GR11: Thiếu trung bình | GS11: Bình thường | GT11: Thiếu trung bình | GU11: Quan trọng | GV11: Thiếu ít | GW11: Quan trọng | GX11: Thiếu trung bình | GY11: Bình thường | GZ11: Thiếu trung bình | HA11: Bình thường | HB11: Thiếu trung bình
A12: Trường Cao Đẳng Lý Tự Trọng Thành phố Hồ Chí Minh | B12: 8 | C12: Phan Đức Long | F12: Công ty Cổ Phần Cơ Điện Lạnh Đại Việt | H12: Quận Tân Bình | I12: Phường Tây Thạnh | J12: Lô II-6, cn13, KCN Tân Bình | K12: Thành phố Hồ Chí Minh | O12: Doanh nghiệp ngoài Nhà nước | P12: Không | Q12: 291 | R12: 503 | S12: Thương mại & Dịch vụ (Bán buôn, bán lẻ) | U12: Thị trường trong nước | V12: Có | W12: Bán tự động | X12: Có | Y12: Ký hợp đồng với đơn vị môi trường | Z12: Có | AA12: Thực hiện tiết kiệm truyền thống | AE12: 2 | AF12: Hàn | AG12: 10 | AH12: 3 | AI12: Lắp đặt trang thiết bị cơ khí | AJ12: 5 | AK12: 14 | AL12: Kỹ thuật máy lạnh và điều hòa không khí | AM12: 4 | AZ12: Không | BB12: Không | BC12: Do tính chất đặc thù của côn ty | BD12: Không | BF12: Không | BH12: 2 | BI12: Hàn | BJ12: 10 | BK12: 7000000 | BL12: Không | BM12: 4 | BN12: Điện công nghiệp | BO12: 10 | BP12: 6500000 | BQ12: Không | BR12: 7 | BS12: Điện tử công nghiệp | BT12: 10 | BU12: 6500000 | BV12: Không | BW12: 9 | BX12: Chế tạo thiết bị cơ khí | BY12: 15 | BZ12: 6500000 | CA12: Không | CB12: 6 | CC12: Cơ điện tử | CD12: 10 | CE12: 6500000 | CG12: (1) Thiếu lao động đáp ứng yêu cầu về CMKT | CK12: 2 | CL12: Hàn | CM12: Có | CN12: 30 | CO12: 4 | CP12: Điện công nghiệp | CQ12: Có | CR12: 30 | CS12: 7 | CT12: Điện tử công nghiệp | CU12: Có | CV12: 30 | CW12: 9 | CX12: Chế tạo thiết bị cơ khí | CY12: Có | CZ12: 30 | DA12: 6 | DB12: Cơ điện tử | DC12: Có | DD12: 30 | DE12: Hài lòng | DF12: Hài lòng | DG12: Hài lòng | DH12: Hài lòng | DI12: Hài lòng | DJ12: Có | DK12: Phần lớn hài lòng | DL12: Hài lòng | DM12: Hài lòng | DN12: Hài lòng | DO12: Hài lòng | DP12: Rất quan trọng | DQ12: Thiếu ít | DR12: Không quan trọng | DS12: Thiếu ít | DT12: Quan trọng | DU12: Thiếu ít | DV12: Quan trọng | DW12: Thiếu trung bình | DX12: Quan trọng | DY12: Thiếu trung bình | DZ12: Quan trọng | EA12: Thiếu trung bình | EB12: Quan trọng | EC12: Thiếu trung bình | ED12: Quan trọng | EE12: Thiếu trung bình | EF12: Rất quan trọng | EG12: Thiếu trung bình | EH12: Bình thường | EI12: Thiếu trung bình | EJ12: Rất quan trọng | EK12: Thiếu ít | EL12: Quan trọng | EM12: Thiếu ít | EQ12: Bình thường | ER12: Thiếu trung bình | ES12: Quan trọng | ET12: Thiếu trung bình | EU12: Quan trọng | EV12: Thiếu nhiều | EW12: Quan trọng | EX12: Thiếu trung bình | EY12: Rất quan trọng | EZ12: Thiếu nhiều | FA12: Rất quan trọng | FB12: Thiếu nhiều | FC12: Quan trọng | FD12: Thiếu rất nhiều | FE12: Bình thường | FF12: Thiếu trung bình | FJ12: Rất quan trọng | FK12: Thiếu trung bình | FL12: Quan trọng | FM12: Thiếu trung bình | FN12: Không quan trọng | FO12: Thiếu trung bình | FP12: Quan trọng | FQ12: Thiếu trung bình | FR12: Quan trọng | FS12: Thiếu trung bình | FT12: Bình thường | FU12: Thiếu trung bình | FV12: Bình thường | FW12: Thiếu trung bình | FX12: Không quan trọng | FY12: Thiếu trung bình | FZ12: Không quan trọng | GA12: Thiếu trung bình | GB12: Quan trọng | GC12: Thiếu trung bình | GG12: Rất quan trọng | GH12: Thiếu trung bình | GI12: Rất quan trọng | GJ12: Thiếu trung bình | GK12: Rất quan trọng | GL12: Thiếu trung bình | GM12: Quan trọng | GN12: Thiếu trung bình | GO12: Quan trọng | GP12: Thiếu trung bình | GQ12: Quan trọng | GR12: Thiếu trung bình | GS12: Quan trọng | GT12: Thiếu trung bình | GU12: Quan trọng | GV12: Thiếu trung bình | GW12: Bình thường | GX12: Thiếu trung bình | GY12: Quan trọng | GZ12: Thiếu trung bình | HA12: Quan trọng | HB12: Thiếu trung bình
A13: Trường Cao Đẳng Lý Tự Trọng Thành phố Hồ Chí Minh | B13: 9 | C13: Phan Đức Long | F13: Công ty Cổ Phần May Bình Minh | H13: Quận Bình Thạnh | I13: Phường 13 | J13: 440 Nơ Trang Long | K13: Thành phố Hồ Chí Minh | L13: Đặng Thị Mận | M13: mandang0301@yahoo.com.vn | N13: 932041044 | O13: Doanh nghiệp Nhà nước | Q13: 541 | R13: 1622 | T13: May Mặc | U13: Cả hai | V13: Có | W13: Bán tự động | X13: Có | Y13: Xử lý nước thải, Phòng cháy chữa cháy, thu gom rác thải nguy hại | Z13: Có | AA13: Tiết kiệm nước, sử dụng bóng đèn tiết kiệm điện năng | AB13: Có | AC13: 200 | AD13: 20 | AZ13: Không | BB13: Không | BC13: Khó khăn về di chuyển, nghe nhìn nên bị hạn chế công việc | BD13: Có | BE13: Người khuyết tật tùy tình trạng khuyết tật mà có thể phù hợp với các ngành nghề khắc nhau | BF13: Không | BH13: 6 | BI13: Cơ Điện tử | BJ13: 3 | BK13: 6000000 | BL13: Không | BM13: 9 | BN13: Chế tạo cơ khí | BO13: 1 | BP13: 7000000 | BQ13: Không | CG13: (1) Thiếu lao động đáp ứng yêu cầu về CMKT | CK13: 6 | CL13: Cơ điện tử | CM13: Có | CN13: 60 | CO13: 9 | CP13: Chế tạo thiết bị cơ khí | CQ13: Có | CR13: 10 | DE13: Hài lòng | DF13: Phần lớn hài lòng | DJ13: Có | DK13: Hài lòng | DL13: Phần lớn hài lòng | DP13: Bình thường | DQ13: Thiếu trung bình | DR13: Quan trọng | DS13: Thiếu rất nhiều | DT13: Rất quan trọng | DU13: Thiếu trung bình | DV13: Bình thường | DW13: Thiếu trung bình | DX13: Bình thường | DY13: Thiếu trung bình | DZ13: Rất quan trọng | EA13: Thiếu trung bình | EB13: Rất quan trọng | EC13: Thiếu nhiều | ED13: Bình thường | EE13: Thiếu trung bình | EF13: Rất quan trọng | EG13: Thiếu trung bình | EH13: Rất quan trọng | EI13: Thiếu trung bình | EJ13: Quan trọng | EK13: Thiếu ít | EL13: Quan trọng | EM13: Thiếu ít | EQ13: Quan trọng | ER13: Thiếu nhiều | ES13: Bình thường | ET13: Thiếu nhiều | EU13: Quan trọng | EV13: Thiếu nhiều | EW13: Quan trọng | EX13: Thiếu nhiều | EY13: Bình thường | EZ13: Thiếu nhiều | FA13: Bình thường | FB13: Thiếu nhiều | FC13: Bình thường | FD13: Thiếu trung bình | FE13: Quan trọng | FF13: Thiếu nhiều | FJ13: Quan trọng | FK13: Thiếu nhiều | FL13: Bình thường | FM13: Thiếu nhiều | FN13: Bình thường | FO13: Thiếu nhiều | FP13: Bình thường | FQ13: Thiếu nhiều | FR13: Bình thường | FS13: Thiếu nhiều | FT13: Bình thường | FU13: Thiếu nhiều | FV13: Bình thường | FW13: Thiếu nhiều | FX13: Quan trọng | FY13: Thiếu nhiều | FZ13: Quan trọng | GA13: Thiếu nhiều | GB13: Quan trọng | GC13: Thiếu nhiều | GG13: Rất quan trọng | GH13: Thiếu nhiều | GI13: Quan trọng | GJ13: Thiếu nhiều | GK13: Quan trọng | GL13: Thiếu nhiều | GM13: Rất quan trọng | GN13: Thiếu nhiều | GO13: Rất quan trọng | GP13: Thiếu nhiều | GQ13: Quan trọng | GR13: Thiếu nhiều | GS13: Quan trọng | GT13: Thiếu nhiều | GU13: Rất quan trọng | GV13: Thiếu nhiều | GW13: Rất quan trọng | GX13: Thiếu nhiều | GY13: Quan trọng | GZ13: Thiếu nhiều | HA13: Quan trọng | HB13: Thiếu nhiều
A14: Trường Cao Đẳng Lý Tự Trọng Thành phố Hồ Chí Minh | B14: 10 | C14: Phan Đức Long | F14: Công ty TNHH ABS Việt Mỹ | H14: Quận 1 | I14: Phường Bến Nghé | J14: Lầu 5, 25 Bis Nguyễn Thị Minh Khai | K14: Thành phố Hồ Chí Minh | L14: Đỗ Thị Thu | M14: hoaithufold@gmail.com | N14: 0902308579 | O14: Doanh nghiệp ngoài Nhà nước | P14: Không | Q14: 100 | S14: Thông tin liên lạc, Công nghệ thông tin | U14: Thị trường xuất khẩu | V14: Không | X14: Có | Y14: Giữ gìn vệ sinh nơi làm việc tại công ty | AB14: Không | AD14: 300 | AE14: 10 | AF14: Quản trị mạng máy tính | AG14: 20 | AH14: 11 | AI14: Sữa chữa và lắp ráp máy tính | AJ14: 30 | AK14: 12 | AL14: Công nghệ thông tin | AM14: 50 | AZ14: Không | BB14: Không | BC14: Không thể làm được nếu bị câm điếc, cụt tay ( sử dụng máy tính) | BD14: Không | BE14: Không đáp ứng được nhu cầu công việc | BF14: Không | BH14: 9 | BI14: Công nghệ thông tin | BJ14: 150 | BK14: 7000000 | BL14: Không | CG14: (1) Thiếu lao động đáp ứng yêu cầu về CMKT | CK14: 9 | CL14: Công nghệ thông tin | CM14: Có | CN14: 60 | DE14: Phần lớn hài lòng | DJ14: Có | DK14: Hoàn toàn hài lòng | DP14: Bình thường | DQ14: Thiếu trung bình | DR14: Quan trọng | DS14: Thiếu ít | DT14: Bình thường | DU14: Thiếu trung bình | DV14: Bình thường | DW14: Thiếu trung bình | DX14: Quan trọng | DY14: Thiếu ít | DZ14: Rất quan trọng | EA14: Thiếu trung bình | EB14: Rất quan trọng | EC14: Thiếu trung bình | ED14: Tôi không biết | EE14: Tôi không biết | EF14: Rất quan trọng | EG14: Thiếu ít | EH14: Quan trọng | EI14: Thiếu trung bình | EJ14: Rất quan trọng | EK14: Thiếu trung bình | EL14: Rất quan trọng | EM14: Hoàn toàn không thiếu | EQ14: Rất quan trọng | ER14: Thiếu trung bình | ES14: Tôi không biết | ET14: Tôi không biết | EU14: Rất quan trọng | EV14: Thiếu trung bình | EW14: Tôi không biết | EX14: Tôi không biết | EY14: Rất quan trọng | EZ14: Thiếu ít | FA14: Rất quan trọng | FB14: Thiếu trung bình | FC14: Rất quan trọng | FD14: Thiếu trung bình | FE14: Tôi không biết | FF14: Tôi không biết | FJ14: Rất quan trọng | FK14: Thiếu ít | FL14: Rất quan trọng | FM14: Thiếu trung bình | FN14: Quan trọng | FO14: Thiếu trung bình | FP14: Quan trọng | FQ14: Thiếu trung bình | FR14: Rất quan trọng | FS14: Thiếu trung bình | FT14: Rất quan trọng | FU14: Thiếu trung bình | FV14: Rất quan trọng | FW14: Thiếu trung bình | FX14: Rất quan trọng | FY14: Thiếu trung bình | FZ14: Rất quan trọng | GA14: Thiếu trung bình | GB14: Rất quan trọng | GC14: Thiếu trung bình | GG14: Rất quan trọng | GH14: Thiếu ít | GI14: Rất quan trọng | GJ14: Thiếu ít | GK14: Rất quan trọng | GL14: Thiếu trung bình | GM14: Rất quan trọng | GN14: Thiếu ít | GO14: Rất quan trọng | GP14: Thiếu trung bình | GQ14: Rất quan trọng | GR14: Thiếu trung bình | GS14: Rất quan trọng | GT14: Thiếu trung bình | GU14: Rất quan trọng | GV14: Thiếu ít | GW14: Rất quan trọng | GX14: Thiếu trung bình | GY14: Rất quan trọng | GZ14: Thiếu trung bình | HA14: Rất quan trọng | HB14: Thiếu trung bình
A15: Trường Cao Đẳng Lý Tự Trọng Thành phố Hồ Chí Minh | B15: 11 | C15: Phan Đức Long | F15: Công ty TNHH Ô TÔ ISUZU VN | H15: Quận Gò Vấp | I15: Phường 8 | J15: 695 Quang Trung | K15: Thành phố Hồ Chí Minh | L15: Bùi Thị Ngọc Uyên | M15: ngocnguyen@isuzu-vietnam.com | N15: 983902578 | O15: Doanh nghiệp có vốn đầu tư nước ngoài | P15: Có | Q15: 487 | T15: Lắp ráp sản xuất Ô TÔ | U15: Cả hai | V15: Có | W15: Bán tự động | X15: Có | Y15: Có chính sách môi trường, hệ thống sử lý chất thải | Z15: Có | AB15: Không | AZ15: Không | BB15: Có | BD15: Có | BE15: Có thể sử dụng người khuyết tật tại khu vực văn phòng | BF15: Không | BM15: 7 | BN15: Điện tử công nghiệp | BO15: 15 | BP15: 5200000 | BQ15: Không | BR15: 1 | BS15: Cắt gọt kim loại | BT15: 17 | BU15: 5200000 | BV15: Không | CG15: (1) Thiếu lao động đáp ứng yêu cầu về CMKT | CO15: 7 | CP15: Điện tử công nghiệp | CQ15: Có | CR15: 30 | CS15: 1 | CT15: Cắt gọt kim loại | CU15: Có | CV15: 30 | DE15: Hài lòng | DF15: Hài lòng | DG15: Hài lòng | DJ15: Có | DK15: Hài lòng | DL15: Hài lòng | DM15: Hài lòng | DN15: Hài lòng | DO15: Phần lớn không hài lòng | DP15: Bình thường | DQ15: Thiếu nhiều | DR15: Bình thường | DS15: Thiếu trung bình | DT15: Quan trọng | DU15: Thiếu trung bình | DV15: Không quan trọng | DW15: Tôi không biết | DX15: Không quan trọng | DY15: Tôi không biết | DZ15: Bình thường | EA15: Thiếu trung bình | EB15: Quan trọng | EC15: Thiếu trung bình | ED15: Quan trọng | EE15: Thiếu ít | EF15: Quan trọng | EG15: Thiếu ít | EH15: Quan trọng | EI15: Thiếu trung bình | EJ15: Quan trọng | EK15: Thiếu trung bình | EL15: Quan trọng | EM15: Thiếu trung bình | EQ15: Quan trọng | ER15: Thiếu ít | ES15: Rất quan trọng | ET15: Thiếu trung bình | EU15: Quan trọng | EV15: Thiếu trung bình | EW15: Rất quan trọng | EX15: Thiếu ít | EY15: Rất quan trọng | EZ15: Thiếu trung bình | FA15: Quan trọng | FB15: Thiếu trung bình | FC15: Không quan trọng | FD15: Thiếu rất nhiều | FE15: Bình thường | FF15: Thiếu trung bình | FJ15: Bình thường | FK15: Thiếu trung bình | FL15: Bình thường | FM15: Thiếu ít | FN15: Hoàn toàn không quan trọng | FO15: Thiếu trung bình | FP15: Bình thường | FQ15: Thiếu trung bình | FR15: Bình thường | FS15: Thiếu trung bình | FT15: Hoàn toàn không quan trọng | FU15: Thiếu rất nhiều | FV15: Không quan trọng | FW15: Thiếu nhiều | FX15: Quan trọng | FY15: Thiếu trung bình | FZ15: Không quan trọng | GA15: Thiếu rất nhiều | GB15: Hoàn toàn không quan trọng | GC15: Thiếu trung bình | GG15: Quan trọng | GH15: Thiếu ít | GI15: Quan trọng | GJ15: Thiếu trung bình | GK15: Bình thường | GL15: Thiếu trung bình | GM15: Quan trọng | GN15: Thiếu trung bình | GO15: Quan trọng | GP15: Thiếu trung bình | GQ15: Bình thường | GR15: Thiếu trung bình | GS15: Bình thường | GT15: Thiếu ít | GU15: Quan trọng | GV15: Thiếu ít | GW15: Quan trọng | GX15: Thiếu trung bình | GY15: Quan trọng | GZ15: Thiếu ít | HA15: Quan trọng | HB15: Thiếu trung bình
A16: Trường Cao Đẳng Lý Tự Trọng Thành phố Hồ Chí Minh | B16: 12 | C16: Phan Đức Long | F16: Công ty TNHH sản xuất thương mại PhaNa - Xưởng sản xuất | H16: Quận 12 | I16: Phường Tân Thới Nhất | J16: 62 Dương Thị Giang | K16: Thành phố Hồ Chí Minh | L16: Phan Thị Phương Thảo | M16: phanthiphuongthao134@gmail.com | N16: 938720726 | O16: Doanh nghiệp ngoài Nhà nước | P16: Không | Q16: 46 | R16: 46 | T16: Sản xuất và kinh doanh các dụng cụ cho người khuyết tật vận động | U16: Thị trường trong nước | V16: Có | W16: Thủ công | X16: Không | Z16: Không | AB16: Có | AC16: 5 | AD16: 5 | AE16: 1 | AF16: Cắt gọt kim loại | AG16: 2 | AH16: 2 | AI16: Hàn | AJ16: 3 | AZ16: Không | BB16: Không | BD16: Không | BF16: Không | BH16: 1 | BI16: Cắt gọt kim loại | BJ16: 3 | BK16: 5200000 | BL16: Không | BM16: 2 | BN16: Hàn | BO16: 2 | BP16: 6000000 | BQ16: Không | CG16: (1) Thiếu lao động đáp ứng yêu cầu về CMKT | CK16: 1 | CL16: Cắt gọt kim loại | CM16: Có | CN16: 30 | CO16: 2 | CP16: Hàn | CQ16: Có | CR16: 60 | DE16: Hài lòng | DF16: Hài lòng | DJ16: Có | DL16: Hài lòng | DM16: Hài lòng | DP16: Không quan trọng | DQ16: Tôi không biết | DR16: Không quan trọng | DS16: Tôi không biết | DT16: Quan trọng | DU16: Thiếu ít | DV16: Quan trọng | DW16: Thiếu ít | DX16: Không quan trọng | DY16: Tôi không biết | DZ16: Quan trọng | EA16: Thiếu trung bình | EB16: Quan trọng | EC16: Thiếu trung bình | ED16: Quan trọng | EE16: Thiếu trung bình | EF16: Rất quan trọng | EG16: Thiếu ít | EH16: Bình thường | EI16: Thiếu trung bình | EJ16: Quan trọng | EK16: Thiếu ít | EL16: Rất quan trọng | EM16: Thiếu trung bình | EQ16: Bình thường | ER16: Thiếu ít | ES16: Quan trọng | ET16: Thiếu trung bình | EU16: Rất quan trọng | EV16: Thiếu trung bình | EW16: Rất quan trọng | EX16: Thiếu trung bình | EY16: Bình thường | EZ16: Thiếu trung bình | FA16: Quan trọng | FB16: Thiếu trung bình | FC16: Quan trọng | FD16: Thiếu trung bình | FE16: Quan trọng | FF16: Thiếu trung bình | FJ16: Quan trọng | FK16: Thiếu trung bình | FL16: Quan trọng | FM16: Thiếu trung bình | FN16: Không quan trọng | FO16: Tôi không biết | FP16: Quan trọng | FQ16: Thiếu trung bình | FR16: Quan trọng | FS16: Thiếu trung bình | FT16: Bình thường | FU16: Thiếu nhiều | FV16: Bình thường | FW16: Thiếu ít | FX16: Quan trọng | FY16: Thiếu trung bình | FZ16: Bình thường | GA16: Tôi không biết | GB16: Quan trọng | GC16: Thiếu trung bình | GG16: Rất quan trọng | GH16: Thiếu trung bình | GI16: Rất quan trọng | GJ16: Thiếu trung bình | GK16: Rất quan trọng | GL16: Thiếu trung bình | GM16: Rất quan trọng | GN16: Thiếu trung bình | GO16: Rất quan trọng | GP16: Thiếu trung bình | GQ16: Rất quan trọng | GR16: Thiếu trung bình | GS16: Quan trọng | GT16: Thiếu trung bình | GU16: Rất quan trọng | GV16: Thiếu trung bình | GW16: Rất quan trọng | GX16: Thiếu trung bình | GY16: Rất quan trọng | GZ16: Thiếu trung bình | HA16: Quan trọng | HB16: Thiếu trung bình
AF300: =IF(AE300="","",VLOOKUP(AE300,options!$K$2:$L$18,2,FALSE)) | AI300: =IF(AH300="","",VLOOKUP(AH300,options!$K$2:$L$18,2,FALSE)) | AL300: =IF(AK300="","",VLOOKUP(AK300,options!$K$2:$L$18,2,FALSE)) | AO300: =IF(AN300="","",VLOOKUP(AN300,options!$K$2:$L$18,2,FALSE)) | AR300: =IF(AQ300="","",VLOOKUP(AQ300,options!$K$2:$L$18,2,FALSE)) | AU300: =IF(AT300="","",VLOOKUP(AT300,options!$K$2:$L$18,2,FALSE)) | AX300: =IF(AW300="","",VLOOKUP(AW300,options!$K$2:$L$18,2,FALSE)) | BI300: =IF(BH300="","",VLOOKUP(BH300,options!$M$3:$N$10,2,FALSE)) | BN300: =IF(BM300="","",VLOOKUP(BM300,options!$M$3:$N$10,2,FALSE)) | BS300: =IF(BR300="","",VLOOKUP(BR300,options!$M$3:$N$10,2,FALSE)) | BX300: =IF(BW300="","",VLOOKUP(BW300,options!$M$3:$N$10,2,FALSE)) | CC300: =IF(CB300="","",VLOOKUP(CB300,options!$M$3:$N$10,2,FALSE)) | CK300: =IF($BH300="","",$BH300) | CL300: =IF(CK300="","",VLOOKUP(CK300,options!$M$3:$N$10,2,FALSE)) | CO300: =IF($BM300="","",$BM300) | CP300: =IF(CO300="","",VLOOKUP(CO300,options!$M$3:$N$10,2,FALSE)) | CS300: =IF($BR300="","",$BR300) | CT300: =IF(CS300="","",VLOOKUP(CS300,options!$M$3:$N$10,2,FALSE)) | CW300: =IF($BW300="","",$BW300) | CX300: =IF(CW300="","",VLOOKUP(CW300,options!$M$3:$N$10,2,FALSE)) | DA300: =IF($CB300="","",$CB300) | DB300: =IF(DA300="","",VLOOKUP(DA300,options!$M$3:$N$10,2,FALSE))
AF301: =IF(AE301="","",VLOOKUP(AE301,options!$K$2:$L$18,2,FALSE)) | AI301: =IF(AH301="","",VLOOKUP(AH301,options!$K$2:$L$18,2,FALSE)) | AL301: =IF(AK301="","",VLOOKUP(AK301,options!$K$2:$L$18,2,FALSE)) | AO301: =IF(AN301="","",VLOOKUP(AN301,options!$K$2:$L$18,2,FALSE)) | AR301: =IF(AQ301="","",VLOOKUP(AQ301,options!$K$2:$L$18,2,FALSE)) | AU301: =IF(AT301="","",VLOOKUP(AT301,options!$K$2:$L$18,2,FALSE)) | AX301: =IF(AW301="","",VLOOKUP(AW301,options!$K$2:$L$18,2,FALSE)) | BI301: =IF(BH301="","",VLOOKUP(BH301,options!$M$3:$N$10,2,FALSE)) | BN301: =IF(BM301="","",VLOOKUP(BM301,options!$M$3:$N$10,2,FALSE)) | BS301: =IF(BR301="","",VLOOKUP(BR301,options!$M$3:$N$10,2,FALSE)) | BX301: =IF(BW301="","",VLOOKUP(BW301,options!$M$3:$N$10,2,FALSE)) | CC301: =IF(CB301="","",VLOOKUP(CB301,options!$M$3:$N$10,2,FALSE)) | CK301: =IF($BH301="","",$BH301) | CL301: =IF(CK301="","",VLOOKUP(CK301,options!$M$3:$N$10,2,FALSE)) | CO301: =IF($BM301="","",$BM301) | CP301: =IF(CO301="","",VLOOKUP(CO301,options!$M$3:$N$10,2,FALSE)) | CS301: =IF($BR301="","",$BR301) | CT301: =IF(CS301="","",VLOOKUP(CS301,options!$M$3:$N$10,2,FALSE)) | CW301: =IF($BW301="","",$BW301) | CX301: =IF(CW301="","",VLOOKUP(CW301,options!$M$3:$N$10,2,FALSE)) | DA301: =IF($CB301="","",$CB301) | DB301: =IF(DA301="","",VLOOKUP(DA301,options!$M$3:$N$10,2,FALSE))
AF302: =IF(AE302="","",VLOOKUP(AE302,options!$K$2:$L$18,2,FALSE)) | AI302: =IF(AH302="","",VLOOKUP(AH302,options!$K$2:$L$18,2,FALSE)) | AL302: =IF(AK302="","",VLOOKUP(AK302,options!$K$2:$L$18,2,FALSE)) | AO302: =IF(AN302="","",VLOOKUP(AN302,options!$K$2:$L$18,2,FALSE)) | AR302: =IF(AQ302="","",VLOOKUP(AQ302,options!$K$2:$L$18,2,FALSE)) | AU302: =IF(AT302="","",VLOOKUP(AT302,options!$K$2:$L$18,2,FALSE)) | AX302: =IF(AW302="","",VLOOKUP(AW302,options!$K$2:$L$18,2,FALSE)) | BI302: =IF(BH302="","",VLOOKUP(BH302,options!$M$3:$N$10,2,FALSE)) | BN302: =IF(BM302="","",VLOOKUP(BM302,options!$M$3:$N$10,2,FALSE)) | BS302: =IF(BR302="","",VLOOKUP(BR302,options!$M$3:$N$10,2,FALSE)) | BX302: =IF(BW302="","",VLOOKUP(BW302,options!$M$3:$N$10,2,FALSE)) | CC302: =IF(CB302="","",VLOOKUP(CB302,options!$M$3:$N$10,2,FALSE)) | CK302: =IF($BH302="","",$BH302) | CL302: =IF(CK302="","",VLOOKUP(CK302,options!$M$3:$N$10,2,FALSE)) | CO302: =IF($BM302="","",$BM302) | CP302: =IF(CO302="","",VLOOKUP(CO302,options!$M$3:$N$10,2,FALSE)) | CS302: =IF($BR302="","",$BR302) | CT302: =IF(CS302="","",VLOOKUP(CS302,options!$M$3:$N$10,2,FALSE)) | CW302: =IF($BW302="","",$BW302) | CX302: =IF(CW302="","",VLOOKUP(CW302,options!$M$3:$N$10,2,FALSE)) | DA302: =IF($CB302="","",$CB302) | DB302: =IF(DA302="","",VLOOKUP(DA302,options!$M$3:$N$10,2,FALSE))
AF303: =IF(AE303="","",VLOOKUP(AE303,options!$K$2:$L$18,2,FALSE)) | AI303: =IF(AH303="","",VLOOKUP(AH303,options!$K$2:$L$18,2,FALSE)) | AL303: =IF(AK303="","",VLOOKUP(AK303,options!$K$2:$L$18,2,FALSE)) | AO303: =IF(AN303="","",VLOOKUP(AN303,options!$K$2:$L$18,2,FALSE)) | AR303: =IF(AQ303="","",VLOOKUP(AQ303,options!$K$2:$L$18,2,FALSE)) | AU303: =IF(AT303="","",VLOOKUP(AT303,options!$K$2:$L$18,2,FALSE)) | AX303: =IF(AW303="","",VLOOKUP(AW303,options!$K$2:$L$18,2,FALSE)) | BI303: =IF(BH303="","",VLOOKUP(BH303,options!$M$3:$N$10,2,FALSE)) | BN303: =IF(BM303="","",VLOOKUP(BM303,options!$M$3:$N$10,2,FALSE)) | BS303: =IF(BR303="","",VLOOKUP(BR303,options!$M$3:$N$10,2,FALSE)) | BX303: =IF(BW303="","",VLOOKUP(BW303,options!$M$3:$N$10,2,FALSE)) | CC303: =IF(CB303="","",VLOOKUP(CB303,options!$M$3:$N$10,2,FALSE)) | CK303: =IF($BH303="","",$BH303) | CL303: =IF(CK303="","",VLOOKUP(CK303,options!$M$3:$N$10,2,FALSE)) | CO303: =IF($BM303="","",$BM303) | CP303: =IF(CO303="","",VLOOKUP(CO303,options!$M$3:$N$10,2,FALSE)) | CS303: =IF($BR303="","",$BR303) | CT303: =IF(CS303="","",VLOOKUP(CS303,options!$M$3:$N$10,2,FALSE)) | CW303: =IF($BW303="","",$BW303) | CX303: =IF(CW303="","",VLOOKUP(CW303,options!$M$3:$N$10,2,FALSE)) | DA303: =IF($CB303="","",$CB303) | DB303: =IF(DA303="","",VLOOKUP(DA303,options!$M$3:$N$10,2,FALSE))
AF304: =IF(AE304="","",VLOOKUP(AE304,options!$K$2:$L$18,2,FALSE)) | AI304: =IF(AH304="","",VLOOKUP(AH304,options!$K$2:$L$18,2,FALSE)) | AL304: =IF(AK304="","",VLOOKUP(AK304,options!$K$2:$L$18,2,FALSE)) | AO304: =IF(AN304="","",VLOOKUP(AN304,options!$K$2:$L$18,2,FALSE)) | AR304: =IF(AQ304="","",VLOOKUP(AQ304,options!$K$2:$L$18,2,FALSE)) | AU304: =IF(AT304="","",VLOOKUP(AT304,options!$K$2:$L$18,2,FALSE)) | AX304: =IF(AW304="","",VLOOKUP(AW304,options!$K$2:$L$18,2,FALSE)) | BI304: =IF(BH304="","",VLOOKUP(BH304,options!$M$3:$N$10,2,FALSE)) | BN304: =IF(BM304="","",VLOOKUP(BM304,options!$M$3:$N$10,2,FALSE)) | BS304: =IF(BR304="","",VLOOKUP(BR304,options!$M$3:$N$10,2,FALSE)) | BX304: =IF(BW304="","",VLOOKUP(BW304,options!$M$3:$N$10,2,FALSE)) | CC304: =IF(CB304="","",VLOOKUP(CB304,options!$M$3:$N$10,2,FALSE)) | CK304: =IF($BH304="","",$BH304) | CL304: =IF(CK304="","",VLOOKUP(CK304,options!$M$3:$N$10,2,FALSE)) | CO304: =IF($BM304="","",$BM304) | CP304: =IF(CO304="","",VLOOKUP(CO304,options!$M$3:$N$10,2,FALSE)) | CS304: =IF($BR304="","",$BR304) | CT304: =IF(CS304="","",VLOOKUP(CS304,options!$M$3:$N$10,2,FALSE)) | CW304: =IF($BW304="","",$BW304) | CX304: =IF(CW304="","",VLOOKUP(CW304,options!$M$3:$N$10,2,FALSE)) | DA304: =IF($CB304="","",$CB304) | DB304: =IF(DA304="","",VLOOKUP(DA304,options!$M$3:$N$10,2,FALSE))
AF305: =IF(AE305="","",VLOOKUP(AE305,options!$K$2:$L$18,2,FALSE)) | AI305: =IF(AH305="","",VLOOKUP(AH305,options!$K$2:$L$18,2,FALSE)) | AL305: =IF(AK305="","",VLOOKUP(AK305,options!$K$2:$L$18,2,FALSE)) | AO305: =IF(AN305="","",VLOOKUP(AN305,options!$K$2:$L$18,2,FALSE)) | AR305: =IF(AQ305="","",VLOOKUP(AQ305,options!$K$2:$L$18,2,FALSE)) | AU305: =IF(AT305="","",VLOOKUP(AT305,options!$K$2:$L$18,2,FALSE)) | AX305: =IF(AW305="","",VLOOKUP(AW305,options!$K$2:$L$18,2,FALSE)) | BI305: =IF(BH305="","",VLOOKUP(BH305,options!$M$3:$N$10,2,FALSE)) | BN305: =IF(BM305="","",VLOOKUP(BM305,options!$M$3:$N$10,2,FALSE)) | BS305: =IF(BR305="","",VLOOKUP(BR305,options!$M$3:$N$10,2,FALSE)) | BX305: =IF(BW305="","",VLOOKUP(BW305,options!$M$3:$N$10,2,FALSE)) | CC305: =IF(CB305="","",VLOOKUP(CB305,options!$M$3:$N$10,2,FALSE)) | CK305: =IF($BH305="","",$BH305) | CL305: =IF(CK305="","",VLOOKUP(CK305,options!$M$3:$N$10,2,FALSE)) | CO305: =IF($BM305="","",$BM305) | CP305: =IF(CO305="","",VLOOKUP(CO305,options!$M$3:$N$10,2,FALSE)) | CS305: =IF($BR305="","",$BR305) | CT305: =IF(CS305="","",VLOOKUP(CS305,options!$M$3:$N$10,2,FALSE)) | CW305: =IF($BW305="","",$BW305) | CX305: =IF(CW305="","",VLOOKUP(CW305,options!$M$3:$N$10,2,FALSE)) | DA305: =IF($CB305="","",$CB305) | DB305: =IF(DA305="","",VLOOKUP(DA305,options!$M$3:$N$10,2,FALSE))
